{"text_format":"1","workbook":"xlsx","n_sheets":2,"sheets":["Inscription recto","Inscription veso"],"not_rendered":{"charts":0,"images":1,"macros":1,"external_links":0,"defined_names":1,"comments":0,"pivot_tables":0},"unopened":[],"bounds":{"document_bytes":16777216,"sheet_cells":100000,"rows_first":2000,"rows_last":500,"rows_between":2000,"halvings":0,"cell_chars":16384,"cell_head_chars":4096},"cells_cut":0,"cells_raw":0,"read":"whole","date_system":"1900"}

{"sheet":"Inscription recto","index":0,"n_rows":56,"n_cols":10,"rows_kept":56,"cut":false,"hidden":false,"merged":[[23,0,26,0],[28,0,31,0],[35,0,39,0],[6,8,6,9],[8,1,8,2],[10,8,10,9],[11,1,11,2],[11,8,11,9],[12,1,12,2],[12,5,13,5],[12,6,13,9],[13,1,13,2],[16,1,17,1],[18,0,21,0]]}
[]
[null,null,null,"BOURGES – PLONGÉE"]
[null,null,null,"FICHE D’INSCRIPTION"]
[]
[]
[]
["NOM:",{"$f":"IF(J6=0,\"\",VLOOKUP($J$6,#REF!,2,0))","v":""},null,null,null,"Prénom",{"$f":"IF(J6=0,\"\",VLOOKUP($J$6,#REF!,3,0))","v":""},null,{"$f":"IF(J6=0,\"\",VLOOKUP($J$6,#REF!,13,0))","v":""}]
[]
["Né(e) le:",{"$f":"IF(J6=0,\"\",VLOOKUP($J$6,#REF!,5,0))","v":""},{"$f":"VLOOKUP($J$6,#REF!,3,0)","v":{"$error":"#REF!"}}]
["Domicilié(e) à:",null,{"$f":"IF(J6=0,\"\",VLOOKUP($J$6,#REF!,6,0))","v":""}]
["Ville :",{"$f":"IF(J6=0,\"\",VLOOKUP($J$6,#REF!,7,0))","v":""},null,"CP:",null,null,null,null,{"$f":"IF(J6=0,\"\",VLOOKUP($J$6,#REF!,8,0))","v":""},{"$f":"VLOOKUP($J$6,#REF!,3,0)","v":{"$error":"#REF!"}}]
["Tél.Domicile",{"$f":"IF(J6=0,\"\",VLOOKUP($J$6,#REF!,9,0))","v":""},{"$f":"VLOOKUP($J$6,#REF!,3,0)","v":{"$error":"#REF!"}},null,null,null,null,null,{"$f":"IF(J6=0,\"\",VLOOKUP($J$6,#REF!,11,0))","v":""},{"$f":"VLOOKUP($J$6,#REF!,3,0)","v":{"$error":"#REF!"}}]
["Tél.Portable",{"$f":"IF(J6=0,\"\",VLOOKUP($J$6,#REF!,10))","v":""},{"$f":"VLOOKUP($J$6,#REF!,3,0)","v":{"$error":"#REF!"}},null,null,"E_mail :",{"$f":"IF(J6=0,\"\",VLOOKUP($J$6,#REF!,12,0))","v":""}]
["Profession",{"$f":"IF(J6=0,\"\",VLOOKUP($J$6,#REF!,14,0))","v":""},{"$f":"IF(K13=0,\"\",VLOOKUP($J$6,#REF!,2,0))","v":""}]
["Personne à prévenir en cas d'accident:",null,null,"Nom:",null,null,"Tél."]
[]
[null,"Année",2023,{"$f":"C17+1","v":2024},2025,2026,2027,2028,2029,2030]
[null,null,2024,2025,2026,2027,2028,2029,2030,2031]
["Adulte","1er adhérent"]
[]
[]
[]
[]
["Jeune","Adhérent"]
[]
[]
[]
[]
["Enfant","Adhérent"]
[]
[]
[]
[]
[null,"Passager"]
[]
["Assurance","LOISIR 1"]
[null,"LOISIR 2"]
[null,"LOISIR 3"]
[null,"PISCINE"]
[null,"PERSO"]
[]
["A signer par l’adhérent",null,"Je reconnais avoir pris connaissance du règlement intérieur affiché, au local Bourges Plongée"]
[null,null,"et le local technique à la piscine, et en accepte les modalités."]
[null,null,"J'autorise la reproduction et la représentation d'images",null,null,null,null,null,"OUI / NON"]
[]
[null,"Date                                     Signature"]
[]
["AUTORISATION PARENTALE (pour les moins de 18 ans)"]
[]
["Je soussigné (e) "]
["Père ou mère de l’enfant (nom et prénom)"]
["Domicilié à"]
["Téléphone"]
["autorise mon enfant à pratiquer la plongée subaquatique à Bourges Plongée, et à participer aux"]
["Sorties techniques en milieu naturel organisées par le club. J'autorise la reproduction et la représentation d'images"]
[null,"Signature"]

{"sheet":"Inscription veso","index":1,"n_rows":37,"n_cols":17,"rows_kept":37,"cut":false,"hidden":false,"merged":[[1,0,2,0],[1,1,1,2],[1,3,1,4],[1,5,1,6],[1,7,1,8],[1,11,1,12],[1,13,1,14],[1,15,1,16],[2,1,2,2],[2,3,2,4],[2,5,2,6],[2,7,2,8],[2,9,2,10],[2,11,2,12],[2,13,2,14],[1,9,1,10],[2,15,2,16],[19,1,19,2],[19,3,19,4],[19,5,19,6],[19,7,19,8],[19,9,19,10],[19,11,19,12],[19,13,19,14],[19,15,19,16],[20,13,20,14],[20,15,20,16],[21,11,21,12],[21,13,21,14],[21,15,21,16],[20,1,20,2],[20,3,20,4],[20,5,20,6],[20,7,20,8],[20,9,20,10],[20,11,20,12],[21,1,21,2],[21,3,21,4],[21,5,21,6],[21,7,21,8],[21,9,21,10],[24,13,24,14],[24,15,24,16],[26,1,26,2],[26,3,26,4],[26,5,26,6],[26,7,26,8],[26,9,26,10],[26,11,26,12],[26,13,26,14],[26,15,26,16],[24,1,24,2],[24,3,24,4],[24,5,24,6],[24,7,24,8],[24,9,24,10],[24,11,24,12],[28,13,28,14],[28,15,28,16],[28,1,28,2],[28,3,28,4],[28,5,28,6],[28,7,28,8],[28,9,28,10],[28,11,28,12]]}
[]
["Année",2023,null,{"$f":"B2+1","v":2024},null,{"$f":"D2+1","v":2025},null,{"$f":"F2+1","v":2026},null,{"$f":"H2+1","v":2027},null,{"$f":"J2+1","v":2028},null,{"$f":"L2+1","v":2029},null,{"$f":"N2+1","v":2030}]
[null,2024,null,{"$f":"B3+1","v":2025},null,{"$f":"D3+1","v":2026},null,{"$f":"F3+1","v":2027},null,{"$f":"H3+1","v":2028},null,{"$f":"J3+1","v":2029},null,{"$f":"L3+1","v":2030},null,{"$f":"N3+1","v":2031}]
[null,"Niveau Actuel","Niv. à préparer","Niveau Actuel","Niv. à préparer","Niveau Actuel","Niv. à préparer","Niveau Actuel","Niv. à préparer","Niveau Actuel","Niv. à préparer","Niveau Actuel","Niv. à préparer","Niveau Actuel","Niv. à préparer","Niveau Actuel","Niv. à préparer"]
["Débutant"]
["Bronze"]
["Argent"]
["Or"]
["N1"]
["N2"]
["N3"]
["N4"]
["N5"]
["MF1"]
["MF2"]
["Instructeur"]
["BEES1"]
["BEES2"]
["Initiateur"]
["N° Brevet"]
["N° TIV"]
["Permis bateau"]
["Mer"]
["Hauturier"]
["Secouriste"]
["Niveau"]
["BIO"]
["Niveau"]
["APNÉE"]
["Niveau"]
["Nitrox"]
["Trimix"]
["Vêt. sec"]
["Autre"]
["Autre"]
["Autre"]
["Autre"]